BEGIN:VCALENDAR
VERSION:2.0
PRODID:-//Panetta Physical Therapy | Long Island, NY Physical Therapy - ECPv6.3.3.1//NONSGML v1.0//EN
CALSCALE:GREGORIAN
METHOD:PUBLISH
X-WR-CALNAME:Panetta Physical Therapy | Long Island, NY Physical Therapy
X-ORIGINAL-URL:https://www.panettapt.com
X-WR-CALDESC:Events for Panetta Physical Therapy | Long Island, NY Physical Therapy
REFRESH-INTERVAL;VALUE=DURATION:PT1H
X-Robots-Tag:noindex
X-PUBLISHED-TTL:PT1H
BEGIN:VTIMEZONE
TZID:America/New_York
BEGIN:DAYLIGHT
TZOFFSETFROM:-0500
TZOFFSETTO:-0400
TZNAME:EDT
DTSTART:20250309T070000
END:DAYLIGHT
BEGIN:STANDARD
TZOFFSETFROM:-0400
TZOFFSETTO:-0500
TZNAME:EST
DTSTART:20251102T060000
END:STANDARD
END:VTIMEZONE
BEGIN:VEVENT
DTSTART;TZID=America/New_York:20251104T183000
DTEND;TZID=America/New_York:20251104T193000
DTSTAMP:20260419T154839
CREATED:20250825T140641Z
LAST-MODIFIED:20250825T143607Z
UID:10000187-1762281000-1762284600@www.panettapt.com
SUMMARY:Knee Pain Workshop - November 4
DESCRIPTION:
URL:https://www.panettapt.com/workshop/knee-pain-workshop/
CATEGORIES:Knee Pain Workshops
END:VEVENT
BEGIN:VEVENT
DTSTART;TZID=America/New_York:20251105T130000
DTEND;TZID=America/New_York:20251105T140000
DTSTAMP:20260419T154839
CREATED:20250825T140807Z
LAST-MODIFIED:20250825T143515Z
UID:10000190-1762347600-1762351200@www.panettapt.com
SUMMARY:Hip Pain Workshop - November 5
DESCRIPTION:
URL:https://www.panettapt.com/workshop/hip-pain-workshop-2/
CATEGORIES:Hip Pain Workshops
END:VEVENT
BEGIN:VEVENT
DTSTART;TZID=America/New_York:20251112T123000
DTEND;TZID=America/New_York:20251112T133000
DTSTAMP:20260419T154839
CREATED:20250825T140954Z
LAST-MODIFIED:20250825T143342Z
UID:10000191-1762950600-1762954200@www.panettapt.com
SUMMARY:Shoulder Pain Workshop - November 12
DESCRIPTION:
URL:https://www.panettapt.com/workshop/shoulder-pain-workshop-2/
CATEGORIES:Shoulder Pain Workshops
END:VEVENT
BEGIN:VEVENT
DTSTART;TZID=America/New_York:20251118T110000
DTEND;TZID=America/New_York:20251118T120000
DTSTAMP:20260419T154839
CREATED:20250825T141139Z
LAST-MODIFIED:20250825T184727Z
UID:10000193-1763463600-1763467200@www.panettapt.com
SUMMARY:Back Pain Workshop - November 18
DESCRIPTION:BACK PAIN WORKSHOP\nRESERVE YOUR SPOT BELOW!\nDETAILS:\n\nDate:\nNovember 18\nTime:\n11:00 am – 12:00 pm\nCost:\nFree\nEvent Category:\nBack Pain Workshops\n\nVENUE:\n\nPanetta PT Ronkonkoma\n\n\n3385 Veterans Memorial Hwy. Ronkonkoma\nLong Island\, New York\, NY 11779 United States\n\nPhone\n631-676-3111
URL:https://www.panettapt.com/workshop/back-pain-11-18/
CATEGORIES:Back Pain Workshops
END:VEVENT
BEGIN:VEVENT
DTSTART;TZID=America/New_York:20251202T110000
DTEND;TZID=America/New_York:20251202T120000
DTSTAMP:20260419T154839
CREATED:20250825T141334Z
LAST-MODIFIED:20250825T143206Z
UID:10000194-1764673200-1764676800@www.panettapt.com
SUMMARY:Shoulder Pain Workshop - December 2
DESCRIPTION:
URL:https://www.panettapt.com/workshop/shoulder-pain-workshop-3/
CATEGORIES:Shoulder Pain Workshops
END:VEVENT
BEGIN:VEVENT
DTSTART;TZID=America/New_York:20251203T130000
DTEND;TZID=America/New_York:20251203T140000
DTSTAMP:20260419T154839
CREATED:20250825T141516Z
LAST-MODIFIED:20250825T143100Z
UID:10000196-1764766800-1764770400@www.panettapt.com
SUMMARY:Balance and Dizziness Workshop - December 3
DESCRIPTION:
URL:https://www.panettapt.com/workshop/balance-and-dizziness-workshop-3/
CATEGORIES:Balance Workshops
ATTACH;FMTTYPE=image/webp:https://www.panettapt.com/wp-content/uploads/2025/08/Balance-Workshop.webp
END:VEVENT
BEGIN:VEVENT
DTSTART;TZID=America/New_York:20251216T110000
DTEND;TZID=America/New_York:20251216T120000
DTSTAMP:20260419T154839
CREATED:20250825T141703Z
LAST-MODIFIED:20250825T142956Z
UID:10000197-1765882800-1765886400@www.panettapt.com
SUMMARY:Neuropathy Workshop - December 16
DESCRIPTION:
URL:https://www.panettapt.com/workshop/neuropathy-workshop-3/
CATEGORIES:Peripheral Neuropathy Workshops
END:VEVENT
BEGIN:VEVENT
DTSTART;TZID=America/New_York:20251217T123000
DTEND;TZID=America/New_York:20251217T133000
DTSTAMP:20260419T154839
CREATED:20250825T141845Z
LAST-MODIFIED:20250825T192312Z
UID:10000199-1765974600-1765978200@www.panettapt.com
SUMMARY:Hip Pain Workshop - December 17
DESCRIPTION:
URL:https://www.panettapt.com/workshop/hip-pain-workshop-3/
CATEGORIES:Hip Pain Workshops
END:VEVENT
END:VCALENDAR